BEGIN:VCALENDAR
VERSION:2.0
PRODID:-//TYPO3/NONSGML Calendarize//EN
BEGIN:VEVENT
UID:calendarize-denkmal-schuetzen-geschichte-erhalten-3
DTSTAMP:20260423T204124Z
DTSTART:20260428T124000Z
DTEND:20260428T152000Z
SUMMARY:Denkmal Schützen\, Geschichte erhalten.
DESCRIPTION:Am Dienstag\, dem 28. April um 14:40 Uhr treffen wir uns am Ba
 hnhof in Eschenlohe und haben dabei hochkarätige Gäste.  Dr. Sabine Weig
 and\, MdL und Denkmalpolitische Sprecherin der Grünen Fraktion im Bayeris
 chen Landtag\, und  Eva Kriner vom Landesbund für Vogel- und Naturschut
 z Bayern werden uns mit ihrem Fachwissen und wichtigen Impulsen unterstüt
 zen.    Der Hintergrund Zu Fuß gehen wir vom Bahnhof zu dem mittlerweil
 e stillgelegten Tunnelsystem "Olympiatunnel" und deren Bewohner*innen\, de
 n Fledermäusen.  Unter dem Decknamen "Ente"  hatten die Nazis 1944 das 
 Tunnelsystem in eine Flugzeugkleinteilefabrik umfunktioniert. Dort mussten
  Zwangsarbeiter unter menschenunwürdigen Bedingungen arbeiten und leben. 
  Wegen drohender Einsturzgefahr wurden 2023 die Tunnel für den Straßenve
 rkehr gesperrt. Heute verfallen sie\, abgesperrt und schweigend über die 
 Geschichte.    Ablauf Bitte zieht festes Schuhwerk und geeignete Kleidun
 g an. Um an den Ort zu gelangen\, gehen wir vom Weg ab durch den Wald. Fü
 r die Nachbesprechung und den gemütlichen Ausklang ist ein Tisch in der T
 averne Athen reserviert. Ihr könnt mit ca. 60 Min. Gehzeit plus ca. 10 Mi
 n. Rückweg vom Restaurant zum Bahnhof rechnen.  
X-ALT-DESC;FMTTYPE=text/html:<p>Am <strong>Dienstag</strong>\, dem <strong
 >28. April um 14:40 Uhr</strong> treffen wir uns am <strong>Bahnhof in Esc
 henlohe</strong> und haben dabei hochkarätige Gäste.<br /> <br /> <stron
 g>Dr. Sabine Weigand</strong>\, MdL und Denkmalpolitische Sprecherin der G
 rünen Fraktion im Bayerischen Landtag\, und&nbsp\;<br /> <strong>Eva Krin
 er</strong>&nbsp\;vom Landesbund für Vogel- und Naturschutz Bayern werden
  uns mit ihrem Fachwissen und wichtigen Impulsen unterstützen.&nbsp\;&nbs
 p\;<br /> <br /> <strong>Der Hintergrund</strong><br /> Zu Fuß gehen wir 
 vom Bahnhof zu dem mittlerweile stillgelegten Tunnelsystem "Olympiatunnel"
  und deren Bewohner*innen\, den Fledermäusen.&nbsp\;<br /> Unter dem Deck
 namen "Ente"&nbsp\; hatten die Nazis 1944 das Tunnelsystem in eine Flugzeu
 gkleinteilefabrik umfunktioniert. Dort mussten Zwangsarbeiter unter mensch
 enunwürdigen Bedingungen arbeiten und leben.&nbsp\;<br /> Wegen drohender
  Einsturzgefahr wurden 2023 die Tunnel für den Straßenverkehr gesperrt. 
 Heute verfallen sie\, abgesperrt und schweigend über die Geschichte.&nbsp
 \;&nbsp\;<br /> <br /> <strong>Ablauf</strong><br /> Bitte zieht festes Sc
 huhwerk und geeignete Kleidung an. Um an den Ort zu gelangen\, gehen wir v
 om Weg ab durch den Wald. Für die Nachbesprechung und den gemütlichen Au
 sklang ist ein Tisch in der Taverne Athen reserviert. Ihr könnt mit ca. 6
 0 Min. Gehzeit plus ca. 10 Min. Rückweg vom Restaurant zum Bahnhof rechne
 n.<br /> &nbsp\;</p>
LOCATION:
END:VEVENT
END:VCALENDAR
